BEGIN:VCALENDAR
VERSION:2.0
PRODID:-//Arbutus Global Middle School - ECPv6.2.8.1//NONSGML v1.0//EN
CALSCALE:GREGORIAN
METHOD:PUBLISH
X-ORIGINAL-URL:https://arbutus.sd61.bc.ca
X-WR-CALDESC:Events for Arbutus Global Middle School
REFRESH-INTERVAL;VALUE=DURATION:PT1H
X-Robots-Tag:noindex
X-PUBLISHED-TTL:PT1H
BEGIN:VTIMEZONE
TZID:America/Vancouver
BEGIN:DAYLIGHT
TZOFFSETFROM:-0800
TZOFFSETTO:-0700
TZNAME:PDT
DTSTART:20260308T100000
END:DAYLIGHT
BEGIN:STANDARD
TZOFFSETFROM:-0700
TZOFFSETTO:-0800
TZNAME:PST
DTSTART:20261101T090000
END:STANDARD
END:VTIMEZONE
BEGIN:VEVENT
DTSTART;VALUE=DATE:20260527
DTEND;VALUE=DATE:20260529
DTSTAMP:20260425T195207
CREATED:20250917T162630Z
LAST-MODIFIED:20250917T162630Z
UID:6032-1779840000-1780012799@arbutus.sd61.bc.ca
SUMMARY:Musical Theatre - Oak Bay Theatre
DESCRIPTION:Details to come
URL:https://arbutus.sd61.bc.ca/calendar-event/musical-theatre-oak-bay-theatre/
END:VEVENT
END:VCALENDAR